BEGIN:VCALENDAR
PRODID:-//http://statistik.d-u-v.org//PHP ultracalendar//EN
VERSION:2.0
METHOD:PUBLISH
BEGIN:VEVENT
DTSTAMP:20260423T035858
CREATED:20161010T131155
UID:1776916738.0.95741900-36646@statistik.d-u-v.org
SUMMARY:Fuxianhu 50 Supermarathon
DESCRIPTION: Fuxianhu 50 Supermarathon\n
  \n
  
DTSTART:20160910T060000
DTEND:00000000T235900
LOCATION:Yuxi City\, CHN
URL:http://iranshao.com/register/reg_races/fuxianhu
CATEGORIES:Ultramarathon
CONTACT:
CLASS:PUBLIC
PRIORITY:5
TRANSP:OPAQUE
END:VEVENT
END:VCALENDAR
