BEGIN:VCALENDAR
PRODID:-//http://statistik.d-u-v.org//PHP ultracalendar//EN
VERSION:2.0
METHOD:PUBLISH
BEGIN:VEVENT
DTSTAMP:20260419T183411
CREATED:20161008T103624
UID:1776623651.0.30640600-36549@statistik.d-u-v.org
SUMMARY:Pocatello 50 Mile Trail Run
DESCRIPTION: Pocatello 50 Mile Trail Run\n
  Race Directors Jared Campbell & Ryan McDermott\n
  info[at]pocatello50.com
DTSTART:20090523T000000
DTEND:00000000T235900
LOCATION:Pocatello, ID\, USA
URL:http://pocatello50.com/
CATEGORIES:Ultramarathon
CONTACT:Race Directors Jared Campbell & Ryan McDermott
CLASS:PUBLIC
PRIORITY:5
TRANSP:OPAQUE
END:VEVENT
END:VCALENDAR
