BEGIN:VCALENDAR
PRODID:-//http://statistik.d-u-v.org//PHP ultracalendar//EN
VERSION:2.0
METHOD:PUBLISH
BEGIN:VEVENT
DTSTAMP:20260420T035224
CREATED:20161007T165123
UID:1776657144.0.02857500-36542@statistik.d-u-v.org
SUMMARY:Les 48 heures de Royan
DESCRIPTION: Les 48 heures de Royan\n
  Daniel Fritzsch\n
  fritzsch.daniel[at]akeonet.com
DTSTART:20171006T100000
DTEND:20171008T100000
LOCATION:Royan\, FRA
URL:http://100km.iroyan.com
CATEGORIES:Ultramarathon
CONTACT:Daniel Fritzsch
CLASS:PUBLIC
PRIORITY:5
TRANSP:OPAQUE
END:VEVENT
END:VCALENDAR
