BEGIN:VCALENDAR
PRODID:-//http://statistik.d-u-v.org//PHP ultracalendar//EN
VERSION:2.0
METHOD:PUBLISH
BEGIN:VEVENT
DTSTAMP:20260419T122457
CREATED:20161005T164853
UID:1776601497.0.69459700-36476@statistik.d-u-v.org
SUMMARY:Lt. JC Stone Trail 50K
DESCRIPTION: Lt. JC Stone Trail 50K\n
  Lou D'Angelo\n
  loudangelo[at]aol.com
DTSTART:20161001T073000
DTEND:00000000T235900
LOCATION:Pittsburgh, PA\, USA
URL:http://www.jcstone50k.com/lt-jc-stone-trail-50k.php
CATEGORIES:Ultramarathon
CONTACT:Lou D'Angelo
CLASS:PUBLIC
PRIORITY:5
TRANSP:OPAQUE
END:VEVENT
END:VCALENDAR
