BEGIN:VCALENDAR
PRODID:-//http://statistik.d-u-v.org//PHP ultracalendar//EN
VERSION:2.0
METHOD:PUBLISH
BEGIN:VEVENT
DTSTAMP:20260419T163039
CREATED:20160410T160820
UID:1776616239.0.60776300-36311@statistik.d-u-v.org
SUMMARY:Bislett 6h hour indoor challenge
DESCRIPTION: Bislett 6h hour indoor challenge\n
  Geir Frykholm, Sharon Broadwell\n
  ultrafrykholm[at]gmail.com; sharon.broadwell[at]gmail.com
DTSTART:20161119T100000
DTEND:00000000T235900
LOCATION:Oslo\, NOR
URL:https://topptid.no/myreg/info/1248
CATEGORIES:Ultramarathon
CONTACT:Geir Frykholm, Sharon Broadwell
CLASS:PUBLIC
PRIORITY:5
TRANSP:OPAQUE
END:VEVENT
END:VCALENDAR
