BEGIN:VCALENDAR
PRODID:-//http://statistik.d-u-v.org//PHP ultracalendar//EN
VERSION:2.0
METHOD:PUBLISH
BEGIN:VEVENT
DTSTAMP:20260419T192738
CREATED:20160926T162350
UID:1776626858.0.54074100-36205@statistik.d-u-v.org
SUMMARY:Bergen Ultra 63km
DESCRIPTION: Bergen Ultra 63km\n
  \n
  
DTSTART:19971101T000000
DTEND:00000000T235900
LOCATION:Bergen\, NOR
URL:
CATEGORIES:Ultramarathon
CONTACT:
CLASS:PUBLIC
PRIORITY:5
TRANSP:OPAQUE
END:VEVENT
END:VCALENDAR
