BEGIN:VCALENDAR
PRODID:-//http://statistik.d-u-v.org//PHP ultracalendar//EN
VERSION:2.0
METHOD:PUBLISH
BEGIN:VEVENT
DTSTAMP:20260421T194522
CREATED:20160916T152326
UID:1776800722.0.43148000-35853@statistik.d-u-v.org
SUMMARY:Sri Chinmoy 13 Hour Race
DESCRIPTION: Sri Chinmoy 13 Hour Race\n
  \n
  dfountain9[at]gmail.com
DTSTART:20170520T060000
DTEND:00000000T235900
LOCATION:Seattle, WA\, USA
URL:http://us.srichinmoyraces.org/Seattle7and13
CATEGORIES:Ultramarathon
CONTACT:
CLASS:PUBLIC
PRIORITY:5
TRANSP:OPAQUE
END:VEVENT
END:VCALENDAR
