BEGIN:VCALENDAR
PRODID:-//http://statistik.d-u-v.org//PHP ultracalendar//EN
VERSION:2.0
METHOD:PUBLISH
BEGIN:VEVENT
DTSTAMP:20260419T202850
CREATED:20160913T150820
UID:1776630530.0.08232200-35755@statistik.d-u-v.org
SUMMARY:Dirty Dozen 50K trail run
DESCRIPTION: Dirty Dozen 50K trail run\n
  Race Director Marcin Mrowka\n
  dirtydozentrail[at]gmail.com
DTSTART:20160910T000000
DTEND:00000000T235900
LOCATION:New York, NY\, USA
URL:https://www.facebook.com/Dirty-Dozen-50K-trail-run-1131892496872742/?ref=nf
CATEGORIES:Ultramarathon
CONTACT:Race Director Marcin Mrowka
CLASS:PUBLIC
PRIORITY:5
TRANSP:OPAQUE
END:VEVENT
END:VCALENDAR
