BEGIN:VCALENDAR
PRODID:-//http://statistik.d-u-v.org//PHP ultracalendar//EN
VERSION:2.0
METHOD:PUBLISH
BEGIN:VEVENT
DTSTAMP:20260422T081222
CREATED:20160913T092407
UID:1776845542.0.63950100-35735@statistik.d-u-v.org
SUMMARY:Thames Challenge Stage Race
DESCRIPTION: Thames Challenge Stage Race\n
  Steven Worrallo\n
  info[at]ultrarunningltd.co.uk
DTSTART:20170810T080000
DTEND:20170813T235900
LOCATION:Kemble, Gloucestershire\, GBR
URL:http://www.ultrarunningltd.co.uk/thames-challenge.html
CATEGORIES:Ultramarathon
CONTACT:Steven Worrallo
CLASS:PUBLIC
PRIORITY:5
TRANSP:OPAQUE
END:VEVENT
END:VCALENDAR
