BEGIN:VCALENDAR
PRODID:-//http://statistik.d-u-v.org//PHP ultracalendar//EN
VERSION:2.0
METHOD:PUBLISH
BEGIN:VEVENT
DTSTAMP:20260425T175912
CREATED:20160911T183017
UID:1777139952.0.46896900-35686@statistik.d-u-v.org
SUMMARY:Northern Wanderer Trail Marathon
DESCRIPTION: Northern Wanderer Trail Marathon\n
  \n
  info[at]nwtrail.ru;admin[at]nwtrail.ru
DTSTART:20161126T000000
DTEND:00000000T235900
LOCATION:St. Petersburg\, RUS
URL:http://www.nwtrail.ru/
CATEGORIES:Ultramarathon
CONTACT:
CLASS:PUBLIC
PRIORITY:5
TRANSP:OPAQUE
END:VEVENT
END:VCALENDAR
