BEGIN:VCALENDAR
PRODID:-//http://statistik.d-u-v.org//PHP ultracalendar//EN
VERSION:2.0
METHOD:PUBLISH
BEGIN:VEVENT
DTSTAMP:20260423T053906
CREATED:20081209T000000
UID:1776922746.0.74651300-3566@statistik.d-u-v.org
SUMMARY:Self-Transcendence Race 48h Kladno
DESCRIPTION: Self-Transcendence Race 48h Kladno\n
  Jaroslav Rosa\n
  j.rosa[at]praha.madalbal.cz
DTSTART:20090807T000000
DTEND:20090809T235900
LOCATION:Kladno\, CZE
URL:http://www.srichinmoyraces.org/cs/ultra/48h_24h_Kladno/index_html_en_/
CATEGORIES:Ultramarathon
CONTACT:Jaroslav Rosa
CLASS:PUBLIC
PRIORITY:5
TRANSP:OPAQUE
END:VEVENT
END:VCALENDAR
