BEGIN:VCALENDAR
PRODID:-//http://statistik.d-u-v.org//PHP ultracalendar//EN
VERSION:2.0
METHOD:PUBLISH
BEGIN:VEVENT
DTSTAMP:20260420T060752
CREATED:20160908T164538
UID:1776665272.0.49375100-35589@statistik.d-u-v.org
SUMMARY:Run for Kids 12 Hour Challenge
DESCRIPTION: Run for Kids 12 Hour Challenge\n
  Race Director David Tosch\n
  david[at]davidtosch.com
DTSTART:20160507T070000
DTEND:00000000T235900
LOCATION:Pelham, AL\, USA
URL:http://www.southeasterntrailruns.com/RunforKidsChallenge.html
CATEGORIES:Ultramarathon
CONTACT:Race Director David Tosch
CLASS:PUBLIC
PRIORITY:5
TRANSP:OPAQUE
END:VEVENT
END:VCALENDAR
