BEGIN:VCALENDAR
PRODID:-//http://statistik.d-u-v.org//PHP ultracalendar//EN
VERSION:2.0
METHOD:PUBLISH
BEGIN:VEVENT
DTSTAMP:20260422T134029
CREATED:20160907T005502
UID:1776865229.0.61274000-35517@statistik.d-u-v.org
SUMMARY:50 km Wien
DESCRIPTION: 50 km Wien\n
  Angelika Huemer-Toff, Klemens Huemer\n
  klemens[at]100km-wien.at
DTSTART:20170610T090000
DTEND:00000000T235900
LOCATION:Wien\, AUT
URL:http://www.100km-wien.at
CATEGORIES:Ultramarathon
CONTACT:Angelika Huemer-Toff, Klemens Huemer
CLASS:PUBLIC
PRIORITY:5
TRANSP:OPAQUE
END:VEVENT
END:VCALENDAR
