BEGIN:VCALENDAR
PRODID:-//http://statistik.d-u-v.org//PHP ultracalendar//EN
VERSION:2.0
METHOD:PUBLISH
BEGIN:VEVENT
DTSTAMP:20260422T040000
CREATED:20081206T000000
UID:1776830400.0.54785100-3543@statistik.d-u-v.org
SUMMARY:Mistrzostwa Polski w biegu 24 h
DESCRIPTION: Mistrzostwa Polski w biegu 24 h\n
  August Jakubik\n
  augustjakubik[at]yahoo.com
DTSTART:20090627T000000
DTEND:20090628T235900
LOCATION:Ruda Slaska\, POL
URL:http://brateq.jessica-alba.pl/stronka/page.php?19
CATEGORIES:Ultramarathon
CONTACT:August Jakubik
CLASS:PUBLIC
PRIORITY:5
TRANSP:OPAQUE
END:VEVENT
END:VCALENDAR
