BEGIN:VCALENDAR
PRODID:-//http://statistik.d-u-v.org//PHP ultracalendar//EN
VERSION:2.0
METHOD:PUBLISH
BEGIN:VEVENT
DTSTAMP:20260423T070051
CREATED:20160831T163856
UID:1776927651.0.84316900-35373@statistik.d-u-v.org
SUMMARY:Thru The Leaves 50k Trail Run
DESCRIPTION: Thru The Leaves 50k Trail Run\n
  Geneva Stephens\n
  moveitfitnessllc[at]gmail.com
DTSTART:20161002T080000
DTEND:00000000T235900
LOCATION:Rochester Hills, MI\, USA
URL:http://move-itfitnessllc.com/thru-the-leaves/
CATEGORIES:Ultramarathon
CONTACT:Geneva Stephens
CLASS:PUBLIC
PRIORITY:5
TRANSP:OPAQUE
END:VEVENT
END:VCALENDAR
