BEGIN:VCALENDAR
PRODID:-//http://statistik.d-u-v.org//PHP ultracalendar//EN
VERSION:2.0
METHOD:PUBLISH
BEGIN:VEVENT
DTSTAMP:20260419T210142
CREATED:20160823T164133
UID:1776632502.0.12376900-35210@statistik.d-u-v.org
SUMMARY:Silverton 24 hour Challenge
DESCRIPTION: Silverton 24 hour Challenge\n
  Rodger Wrublik\n
  silvertonspecialevents[at]gmail.com
DTSTART:20160817T090000
DTEND:20160818T235900
LOCATION:Silverton, CO\, USA
URL:http://silverton1000.com/
CATEGORIES:Ultramarathon
CONTACT:Rodger Wrublik
CLASS:PUBLIC
PRIORITY:5
TRANSP:OPAQUE
END:VEVENT
END:VCALENDAR
