BEGIN:VCALENDAR
PRODID:-//http://statistik.d-u-v.org//PHP ultracalendar//EN
VERSION:2.0
METHOD:PUBLISH
BEGIN:VEVENT
DTSTAMP:20260423T034936
CREATED:20160821T022252
UID:1776916176.0.26309600-35132@statistik.d-u-v.org
SUMMARY:Kölnpfad - Einmol öm Kölle röm
DESCRIPTION: Kölnpfad - Einmol öm Kölle röm\n
  Thomas Eller\n
  thomas.eller[at]marathonundlaenger.de
DTSTART:20170701T000000
DTEND:20170702T080000
LOCATION:Köln\, GER
URL:http://koelnpfad.wordpress.com
CATEGORIES:Ultramarathon
CONTACT:Thomas Eller
CLASS:PUBLIC
PRIORITY:5
TRANSP:OPAQUE
END:VEVENT
END:VCALENDAR
