BEGIN:VCALENDAR
PRODID:-//http://statistik.d-u-v.org//PHP ultracalendar//EN
VERSION:2.0
METHOD:PUBLISH
BEGIN:VEVENT
DTSTAMP:20260419T183312
CREATED:20160809T235352
UID:1776623592.0.19354300-34984@statistik.d-u-v.org
SUMMARY:Duncan Ridge Trail 50 km Race
DESCRIPTION: Duncan Ridge Trail 50 km Race\n
  Robert "Bobcat" Lewellen - Race Director\n
  lewellenr[at]duncanridgetrail50k.com
DTSTART:20121117T000000
DTEND:00000000T235900
LOCATION:Blairsville, GA\, USA
URL:http://www.duncanridgetrail50k.com/
CATEGORIES:Ultramarathon
CONTACT:Robert "Bobcat" Lewellen - Race Director
CLASS:PUBLIC
PRIORITY:5
TRANSP:OPAQUE
END:VEVENT
END:VCALENDAR
