BEGIN:VCALENDAR
PRODID:-//http://statistik.d-u-v.org//PHP ultracalendar//EN
VERSION:2.0
METHOD:PUBLISH
BEGIN:VEVENT
DTSTAMP:20260424T190230
CREATED:20160726T160529
UID:1777057350.0.21582500-34737@statistik.d-u-v.org
SUMMARY:Honey Badger 100 Mile Ultra Road Race
DESCRIPTION: Honey Badger 100 Mile Ultra Road Race\n
  \n
  carolynr[at]goracetiming.com
DTSTART:20160709T000000
DTEND:20160710T235900
LOCATION:Kingman, KS\, USA
URL:http://www.honeybadger100.com/
CATEGORIES:Ultramarathon
CONTACT:
CLASS:PUBLIC
PRIORITY:5
TRANSP:OPAQUE
END:VEVENT
END:VCALENDAR
