BEGIN:VCALENDAR
PRODID:-//http://statistik.d-u-v.org//PHP ultracalendar//EN
VERSION:2.0
METHOD:PUBLISH
BEGIN:VEVENT
DTSTAMP:20260424T204317
CREATED:20170611T185138
UID:1777063397.0.31333600-34639@statistik.d-u-v.org
SUMMARY:24-Stunden-Lauf VfL Dettenhausen
DESCRIPTION: 24-Stunden-Lauf VfL Dettenhausen\n
  Thomas Listl\n
  thomas.listl[at]vfl-dettenhausen.de
DTSTART:20170715T100000
DTEND:20170716T100000
LOCATION:Dettenhausen\, GER
URL:http://www.vfl-dettenhausen.de
CATEGORIES:Ultramarathon
CONTACT:Thomas Listl
CLASS:PUBLIC
PRIORITY:5
TRANSP:OPAQUE
END:VEVENT
END:VCALENDAR
