BEGIN:VCALENDAR
PRODID:-//http://statistik.d-u-v.org//PHP ultracalendar//EN
VERSION:2.0
METHOD:PUBLISH
BEGIN:VEVENT
DTSTAMP:20260423T054027
CREATED:20160708T151227
UID:1776922827.0.46223800-34417@statistik.d-u-v.org
SUMMARY:Ouachita Trail 50 km
DESCRIPTION: Ouachita Trail 50 km\n
  \n
  ot50[at]runarkansas.com
DTSTART:20170422T060000
DTEND:00000000T235900
LOCATION:Little Rock, AR\, USA
URL:http://www.runarkansas.com/OT50.htm
CATEGORIES:Ultramarathon
CONTACT:
CLASS:PUBLIC
PRIORITY:5
TRANSP:OPAQUE
END:VEVENT
END:VCALENDAR
