BEGIN:VCALENDAR
PRODID:-//http://statistik.d-u-v.org//PHP ultracalendar//EN
VERSION:2.0
METHOD:PUBLISH
BEGIN:VEVENT
DTSTAMP:20260423T011109
CREATED:20160712T095223
UID:1776906669.0.71569600-34346@statistik.d-u-v.org
SUMMARY:Ultra Asia Race Vietnam
DESCRIPTION: Ultra Asia Race Vietnam\n
  Jérôme Lollier\n
  contact[at]canal-aventure.com
DTSTART:20170327T000000
DTEND:20170330T235900
LOCATION:Pa Co\, VIE
URL:http://www.canal-aventure.com
CATEGORIES:Ultramarathon
CONTACT:Jérôme Lollier
CLASS:PUBLIC
PRIORITY:5
TRANSP:OPAQUE
END:VEVENT
END:VCALENDAR
