BEGIN:VCALENDAR
PRODID:-//http://statistik.d-u-v.org//PHP ultracalendar//EN
VERSION:2.0
METHOD:PUBLISH
BEGIN:VEVENT
DTSTAMP:20260419T183151
CREATED:20160705T150624
UID:1776623511.0.95055900-34287@statistik.d-u-v.org
SUMMARY:Taylor Mountain 50 Km Trail Run
DESCRIPTION: Taylor Mountain 50 Km Trail Run\n
  \n
  events[at]4thdimensionracing.com
DTSTART:20140628T000000
DTEND:00000000T235900
LOCATION:Issaquah, WA\, USA
URL:http://www.evergreentrailruns.com/28-jun-taylor-mountain
CATEGORIES:Ultramarathon
CONTACT:
CLASS:PUBLIC
PRIORITY:5
TRANSP:OPAQUE
END:VEVENT
END:VCALENDAR
