BEGIN:VCALENDAR
PRODID:-//http://statistik.d-u-v.org//PHP ultracalendar//EN
VERSION:2.0
METHOD:PUBLISH
BEGIN:VEVENT
DTSTAMP:20260420T003915
CREATED:20160705T150624
UID:1776645555.0.92778600-34262@statistik.d-u-v.org
SUMMARY:Squak Mountain 50 Km Trail Run
DESCRIPTION: Squak Mountain 50 Km Trail Run\n
  \n
  events[at]4thdimensionracing.com
DTSTART:20110423T000000
DTEND:00000000T235900
LOCATION:Issaquah, WA\, USA
URL:http://www.evergreentrailruns.com/squak-mtn-trail-run
CATEGORIES:Ultramarathon
CONTACT:
CLASS:PUBLIC
PRIORITY:5
TRANSP:OPAQUE
END:VEVENT
END:VCALENDAR
