BEGIN:VCALENDAR
PRODID:-//http://statistik.d-u-v.org//PHP ultracalendar//EN
VERSION:2.0
METHOD:PUBLISH
BEGIN:VEVENT
DTSTAMP:20260425T032456
CREATED:20160705T150624
UID:1777087496.0.35265000-34257@statistik.d-u-v.org
SUMMARY:Race the Chase 50k
DESCRIPTION: Race the Chase 50k\n
  \n
  
DTSTART:20140913T000000
DTEND:00000000T235900
LOCATION:Cottonwood Falls, KS\, USA
URL:http://www.racethechase.com/
CATEGORIES:Ultramarathon
CONTACT:
CLASS:PUBLIC
PRIORITY:5
TRANSP:OPAQUE
END:VEVENT
END:VCALENDAR
