BEGIN:VCALENDAR
PRODID:-//http://statistik.d-u-v.org//PHP ultracalendar//EN
VERSION:2.0
METHOD:PUBLISH
BEGIN:VEVENT
DTSTAMP:20260423T104251
CREATED:20160629T181053
UID:1776940971.0.66182700-34091@statistik.d-u-v.org
SUMMARY:Modderfontein 48 hour Challenge
DESCRIPTION: Modderfontein 48 hour Challenge\n
  Eric Wright\n
  ericfrankwright[at]gmail.com
DTSTART:20160401T120000
DTEND:20160403T120000
LOCATION:Edenvale\, RSA
URL:http://www.wrightracetiming.co.za/
CATEGORIES:Ultramarathon
CONTACT:Eric Wright
CLASS:PUBLIC
PRIORITY:5
TRANSP:OPAQUE
END:VEVENT
END:VCALENDAR
