BEGIN:VCALENDAR
PRODID:-//http://statistik.d-u-v.org//PHP ultracalendar//EN
VERSION:2.0
METHOD:PUBLISH
BEGIN:VEVENT
DTSTAMP:20260423T002756
CREATED:20160628T162616
UID:1776904076.0.59693800-34051@statistik.d-u-v.org
SUMMARY:Sunset 24 Hour Endurance Challenge
DESCRIPTION: Sunset 24 Hour Endurance Challenge\n
  \n
  pirel[at]prodigy.net
DTSTART:20131130T000000
DTEND:20131201T235900
LOCATION:Benton, AR\, USA
URL:http://salinecountystriders.com/races/61224-endurance-run/
CATEGORIES:Ultramarathon
CONTACT:
CLASS:PUBLIC
PRIORITY:5
TRANSP:OPAQUE
END:VEVENT
END:VCALENDAR
