BEGIN:VCALENDAR
PRODID:-//http://statistik.d-u-v.org//PHP ultracalendar//EN
VERSION:2.0
METHOD:PUBLISH
BEGIN:VEVENT
DTSTAMP:20260422T234933
CREATED:20160627T155914
UID:1776901773.0.73895600-34021@statistik.d-u-v.org
SUMMARY:Elijah Bristow 24 Hour Run
DESCRIPTION: Elijah Bristow 24 Hour Run\n
  Race Director Ed Willson and Stephan Willow\n
  od[at]bristow24.org; rd[at]bristow24.org
DTSTART:20160618T090000
DTEND:20160619T235900
LOCATION:Eugene, OR\, USA
URL:http://www.bristow24.org/
CATEGORIES:Ultramarathon
CONTACT:Race Director Ed Willson and Stephan Willow
CLASS:PUBLIC
PRIORITY:5
TRANSP:OPAQUE
END:VEVENT
END:VCALENDAR
