BEGIN:VCALENDAR
PRODID:-//http://statistik.d-u-v.org//PHP ultracalendar//EN
VERSION:2.0
METHOD:PUBLISH
BEGIN:VEVENT
DTSTAMP:20260423T055228
CREATED:20160625T184836
UID:1776923548.0.49941700-33983@statistik.d-u-v.org
SUMMARY:Blackwater 50k Ultra Trail Run Challenge
DESCRIPTION: Blackwater 50k Ultra Trail Run Challenge\n
  \n
  
DTSTART:20160220T070000
DTEND:00000000T235900
LOCATION:Milton, FL\, USA
URL:http://werunwild.com/events/event/blackwater-trail-challenge-50k-ultra/
CATEGORIES:Ultramarathon
CONTACT:
CLASS:PUBLIC
PRIORITY:5
TRANSP:OPAQUE
END:VEVENT
END:VCALENDAR
