BEGIN:VCALENDAR
PRODID:-//http://statistik.d-u-v.org//PHP ultracalendar//EN
VERSION:2.0
METHOD:PUBLISH
BEGIN:VEVENT
DTSTAMP:20260422T232626
CREATED:20160614T222133
UID:1776900386.0.35471000-33892@statistik.d-u-v.org
SUMMARY:100 km Lauf Biel - Militär-Patrouillenlauf
DESCRIPTION: 100 km Lauf Biel - Militär-Patrouillenlauf\n
  Pierrette Blösch\n
  info[at]100km.ch
DTSTART:20160610T220000
DTEND:20160611T235900
LOCATION:Biel\, SUI
URL:http://www.100km.ch
CATEGORIES:Ultramarathon
CONTACT:Pierrette Blösch
CLASS:PUBLIC
PRIORITY:5
TRANSP:OPAQUE
END:VEVENT
END:VCALENDAR
