BEGIN:VCALENDAR
PRODID:-//http://statistik.d-u-v.org//PHP ultracalendar//EN
VERSION:2.0
METHOD:PUBLISH
BEGIN:VEVENT
DTSTAMP:20260423T014833
CREATED:20080508T000000
UID:1776908913.0.47721700-3381@statistik.d-u-v.org
SUMMARY:PCT Ultra 100 Miler (Hundred in the Hood)
DESCRIPTION: PCT Ultra 100 Miler (Hundred in the Hood)\n
  Olga Varlamova\n
  olgav100[at]gmail.com
DTSTART:20090926T000000
DTEND:20090927T235900
LOCATION:Mt. Hood, OR\, USA
URL:http://www.pctultra.com/100/
CATEGORIES:Ultramarathon
CONTACT:Olga Varlamova
CLASS:PUBLIC
PRIORITY:5
TRANSP:OPAQUE
END:VEVENT
END:VCALENDAR
