BEGIN:VCALENDAR
PRODID:-//http://statistik.d-u-v.org//PHP ultracalendar//EN
VERSION:2.0
METHOD:PUBLISH
BEGIN:VEVENT
DTSTAMP:20260423T020232
CREATED:20160609T202022
UID:1776909752.0.73676600-33783@statistik.d-u-v.org
SUMMARY:Ice Age Trail 50 Mile Run
DESCRIPTION: Ice Age Trail 50 Mile Run\n
  \n
  
DTSTART:20170513T060000
DTEND:00000000T235900
LOCATION:La Grange, WI\, USA
URL:http://www.iceagetrail50.com/site/
CATEGORIES:Ultramarathon
CONTACT:
CLASS:PUBLIC
PRIORITY:5
TRANSP:OPAQUE
END:VEVENT
END:VCALENDAR
