BEGIN:VCALENDAR
PRODID:-//http://statistik.d-u-v.org//PHP ultracalendar//EN
VERSION:2.0
METHOD:PUBLISH
BEGIN:VEVENT
DTSTAMP:20260423T035843
CREATED:20160529T233354
UID:1776916723.0.27086200-33601@statistik.d-u-v.org
SUMMARY:Crazy Desert Trail Race 50 km Race
DESCRIPTION: Crazy Desert Trail Race 50 km Race\n
  \n
  sanangeloroadlizards[at]gmail.com
DTSTART:20120303T000000
DTEND:00000000T235900
LOCATION:San Angelo, TX\, USA
URL:http://www.roadlizards.org/crazy-desert-trail-run-iw.html
CATEGORIES:Ultramarathon
CONTACT:
CLASS:PUBLIC
PRIORITY:5
TRANSP:OPAQUE
END:VEVENT
END:VCALENDAR
