BEGIN:VCALENDAR
PRODID:-//http://statistik.d-u-v.org//PHP ultracalendar//EN
VERSION:2.0
METHOD:PUBLISH
BEGIN:VEVENT
DTSTAMP:20260419T192235
CREATED:20160516T082232
UID:1776626555.0.03978600-33408@statistik.d-u-v.org
SUMMARY:TARC Wapack and Back 43 Mile Trail Race
DESCRIPTION: TARC Wapack and Back 43 Mile Trail Race\n
  Norm Sheppard\n
  jveinotte80[at]hotmail.com
DTSTART:20160507T050000
DTEND:00000000T235900
LOCATION:Ashburnham, MA\, USA
URL:https://ultrasignup.com/register.aspx?did=34928
CATEGORIES:Ultramarathon
CONTACT:Norm Sheppard
CLASS:PUBLIC
PRIORITY:5
TRANSP:OPAQUE
END:VEVENT
END:VCALENDAR
