BEGIN:VCALENDAR
PRODID:-//http://statistik.d-u-v.org//PHP ultracalendar//EN
VERSION:2.0
METHOD:PUBLISH
BEGIN:VEVENT
DTSTAMP:20260420T000640
CREATED:20160513T103536
UID:1776643600.0.35622600-33317@statistik.d-u-v.org
SUMMARY:Yukon Arctic Ultra 430mi
DESCRIPTION: Yukon Arctic Ultra 430mi\n
  Robert Pollhammer\n
  info[at]thegreatoutdoors.de
DTSTART:20170205T103000
DTEND:20170218T235900
LOCATION:Whitehorse, YT\, CAN
URL:http://www.arcticultra.de/
CATEGORIES:Ultramarathon
CONTACT:Robert Pollhammer
CLASS:PUBLIC
PRIORITY:5
TRANSP:OPAQUE
END:VEVENT
END:VCALENDAR
