BEGIN:VCALENDAR
PRODID:-//http://statistik.d-u-v.org//PHP ultracalendar//EN
VERSION:2.0
METHOD:PUBLISH
BEGIN:VEVENT
DTSTAMP:20260419T184410
CREATED:20081030T000000
UID:1776624250.0.60887500-3331@statistik.d-u-v.org
SUMMARY:Défi de l'Oisans
DESCRIPTION: Défi de l'Oisans\n
  Cyril Bauland\n
  cyril.smag[at]yahoo.fr
DTSTART:20090725T000000
DTEND:20090731T235900
LOCATION:Les-Deux-Alpes\, FRA
URL:http://smag.over-blog.com/article-defi-de-l-oisans-2010-37215428.html
CATEGORIES:Ultramarathon
CONTACT:Cyril Bauland
CLASS:PUBLIC
PRIORITY:5
TRANSP:OPAQUE
END:VEVENT
END:VCALENDAR
