BEGIN:VCALENDAR
PRODID:-//http://statistik.d-u-v.org//PHP ultracalendar//EN
VERSION:2.0
METHOD:PUBLISH
BEGIN:VEVENT
DTSTAMP:20260419T192142
CREATED:20171101T172638
UID:1776626502.0.43019500-3324@statistik.d-u-v.org
SUMMARY:Rock & Road 30 Mile Race
DESCRIPTION: Rock & Road 30 Mile Race\n
  \n
  
DTSTART:20171021T000000
DTEND:00000000T235900
LOCATION:Nashville, TN\, USA
URL:https://rockandroad.racesonline.com/
CATEGORIES:Ultramarathon
CONTACT:
CLASS:PUBLIC
PRIORITY:5
TRANSP:OPAQUE
END:VEVENT
END:VCALENDAR
