BEGIN:VCALENDAR
PRODID:-//http://statistik.d-u-v.org//PHP ultracalendar//EN
VERSION:2.0
METHOD:PUBLISH
BEGIN:VEVENT
DTSTAMP:20260423T055250
CREATED:20160430T013341
UID:1776923570.0.20828500-33048@statistik.d-u-v.org
SUMMARY:Ghost Train Rail Trail Races 100 Mile
DESCRIPTION: Ghost Train Rail Trail Races 100 Mile\n
  Steve Latour, Race Director\n
  s_latour[at]hotmail.com
DTSTART:20161022T090000
DTEND:20161023T235900
LOCATION:Brookline, NH\, USA
URL:http://www.trailanimals.com/
CATEGORIES:Ultramarathon
CONTACT:Steve Latour, Race Director
CLASS:PUBLIC
PRIORITY:5
TRANSP:OPAQUE
END:VEVENT
END:VCALENDAR
