BEGIN:VCALENDAR
PRODID:-//http://statistik.d-u-v.org//PHP ultracalendar//EN
VERSION:2.0
METHOD:PUBLISH
BEGIN:VEVENT
DTSTAMP:20260419T192312
CREATED:20160430T012906
UID:1776626592.0.68547200-33046@statistik.d-u-v.org
SUMMARY:Rocky Raccoon 100 Mile Trail Run
DESCRIPTION: Rocky Raccoon 100 Mile Trail Run\n
  Chris McWatters (Race Director)\n
  chris[at]tejastrails.com
DTSTART:20170204T060000
DTEND:20170205T120000
LOCATION:Huntsville, TX\, USA
URL:http://www.tejastrails.com/Rocky.html
CATEGORIES:Ultramarathon
CONTACT:Chris McWatters (Race Director)
CLASS:PUBLIC
PRIORITY:5
TRANSP:OPAQUE
END:VEVENT
END:VCALENDAR
