BEGIN:VCALENDAR
PRODID:-//http://statistik.d-u-v.org//PHP ultracalendar//EN
VERSION:2.0
METHOD:PUBLISH
BEGIN:VEVENT
DTSTAMP:20260423T020335
CREATED:20160426T164731
UID:1776909815.0.60864300-32929@statistik.d-u-v.org
SUMMARY:12hrs of HOSTELity
DESCRIPTION: 12hrs of HOSTELity\n
  Willy Syndram\n
  natureboy_hiking[at]yahoo.com
DTSTART:20160116T090000
DTEND:00000000T235900
LOCATION:Dahlonega, GA\, USA
URL:http://www.dumassevents.com/24hrs_of_HOSTELity.html
CATEGORIES:Ultramarathon
CONTACT:Willy Syndram
CLASS:PUBLIC
PRIORITY:5
TRANSP:OPAQUE
END:VEVENT
END:VCALENDAR
