BEGIN:VCALENDAR
PRODID:-//http://statistik.d-u-v.org//PHP ultracalendar//EN
VERSION:2.0
METHOD:PUBLISH
BEGIN:VEVENT
DTSTAMP:20260424T205537
CREATED:20060401T000000
UID:1777064137.0.09500700-329@statistik.d-u-v.org
SUMMARY:Gmünder 12-Stunden-DRK-Lauf
DESCRIPTION: Gmünder 12-Stunden-DRK-Lauf\n
  Ludwig Bertram\n
  
DTSTART:20060527T000000
DTEND:00000000T235900
LOCATION:Schwäbisch Gmünd\, GER
URL:http://www.drk-gd.de
CATEGORIES:Ultramarathon
CONTACT:Ludwig Bertram
CLASS:PUBLIC
PRIORITY:5
TRANSP:OPAQUE
END:VEVENT
END:VCALENDAR
