BEGIN:VCALENDAR
PRODID:-//http://statistik.d-u-v.org//PHP ultracalendar//EN
VERSION:2.0
METHOD:PUBLISH
BEGIN:VEVENT
DTSTAMP:20260420T012901
CREATED:20160406T213926
UID:1776648541.0.61999600-32730@statistik.d-u-v.org
SUMMARY:12-Stunden-Spendenlauf Sprockhövel
DESCRIPTION: 12-Stunden-Spendenlauf Sprockhövel\n
  Rene Strack\n
  r.strack[at]finnxpress.de
DTSTART:20160625T060000
DTEND:00000000T235900
LOCATION:Sprockhövel\, GER
URL:http://www.laufen-in-hasslinghausen.de
CATEGORIES:Ultramarathon
CONTACT:Rene Strack
CLASS:PUBLIC
PRIORITY:5
TRANSP:OPAQUE
END:VEVENT
END:VCALENDAR
