BEGIN:VCALENDAR
PRODID:-//http://statistik.d-u-v.org//PHP ultracalendar//EN
VERSION:2.0
METHOD:PUBLISH
BEGIN:VEVENT
DTSTAMP:20260423T062922
CREATED:20160407T154802
UID:1776925762.0.78191300-32704@statistik.d-u-v.org
SUMMARY:Orcas Island 100 Mile Race
DESCRIPTION: Orcas Island 100 Mile Race\n
  Race director James Varner\n
  james[at]rainshadowrunning.com
DTSTART:20170224T080000
DTEND:20170225T235900
LOCATION:Olga, WA\, USA
URL:http://www.rainshadowrunning.com/orcas-island-100.html
CATEGORIES:Ultramarathon
CONTACT:Race director James Varner
CLASS:PUBLIC
PRIORITY:5
TRANSP:OPAQUE
END:VEVENT
END:VCALENDAR
