BEGIN:VCALENDAR
PRODID:-//http://statistik.d-u-v.org//PHP ultracalendar//EN
VERSION:2.0
METHOD:PUBLISH
BEGIN:VEVENT
DTSTAMP:20260420T012854
CREATED:20160407T154802
UID:1776648534.0.96643400-32659@statistik.d-u-v.org
SUMMARY:Crossing the Taiwan Ultramarathon Stage 1 Shimen - Zhongli
DESCRIPTION: Crossing the Taiwan Ultramarathon Stage 1 Shimen - Zhongli\n
  \n
  
DTSTART:20160220T083000
DTEND:00000000T235900
LOCATION:Shimen District\, TPE
URL:https://www.facebook.com/events/1573048346351974/
CATEGORIES:Ultramarathon
CONTACT:
CLASS:PUBLIC
PRIORITY:5
TRANSP:OPAQUE
END:VEVENT
END:VCALENDAR
