BEGIN:VCALENDAR
PRODID:-//http://statistik.d-u-v.org//PHP ultracalendar//EN
VERSION:2.0
METHOD:PUBLISH
BEGIN:VEVENT
DTSTAMP:20260425T214148
CREATED:20160405T180159
UID:1777153308.0.77537200-32579@statistik.d-u-v.org
SUMMARY:Ispitai Sebia Ultramarathon, 50km St.Petersburg
DESCRIPTION: Ispitai Sebia Ultramarathon, 50km St.Petersburg\n
  V. Mersljakow\n
  
DTSTART:20150906T080000
DTEND:00000000T235900
LOCATION:St. Petersburg\, RUS
URL:http://probeg.org/card.php?id=177
CATEGORIES:Ultramarathon
CONTACT:V. Mersljakow
CLASS:PUBLIC
PRIORITY:5
TRANSP:OPAQUE
END:VEVENT
END:VCALENDAR
