BEGIN:VCALENDAR
PRODID:-//http://statistik.d-u-v.org//PHP ultracalendar//EN
VERSION:2.0
METHOD:PUBLISH
BEGIN:VEVENT
DTSTAMP:20260419T211244
CREATED:20160403T172253
UID:1776633164.0.55347300-32520@statistik.d-u-v.org
SUMMARY:Uwharrie 100 Km Trail Run
DESCRIPTION: Uwharrie 100 Km Trail Run\n
  Race Director Daniel Paige\n
  uwharrie100milerun[at]gmail.com
DTSTART:20161022T000000
DTEND:20161023T235900
LOCATION:Troy, NC\, USA
URL:http://www.uwharrie100.com/
CATEGORIES:Ultramarathon
CONTACT:Race Director Daniel Paige
CLASS:PUBLIC
PRIORITY:5
TRANSP:OPAQUE
END:VEVENT
END:VCALENDAR
