BEGIN:VCALENDAR
PRODID:-//http://statistik.d-u-v.org//PHP ultracalendar//EN
VERSION:2.0
METHOD:PUBLISH
BEGIN:VEVENT
DTSTAMP:20260423T025009
CREATED:20160327T181242
UID:1776912609.0.89970600-32351@statistik.d-u-v.org
SUMMARY:FOURmidable 50K
DESCRIPTION: FOURmidable 50K\n
  Race Director Paulo Medina\n
  singletrackrunning[at]gmail.com
DTSTART:20130223T000000
DTEND:00000000T235900
LOCATION:Cool, CA\, USA
URL:http://singletrackrunning.com/fourmidable/
CATEGORIES:Ultramarathon
CONTACT:Race Director Paulo Medina
CLASS:PUBLIC
PRIORITY:5
TRANSP:OPAQUE
END:VEVENT
END:VCALENDAR
