BEGIN:VCALENDAR
PRODID:-//http://statistik.d-u-v.org//PHP ultracalendar//EN
VERSION:2.0
METHOD:PUBLISH
BEGIN:VEVENT
DTSTAMP:20260424T214804
CREATED:20160326T192343
UID:1777067284.0.55301000-32342@statistik.d-u-v.org
SUMMARY:Riverbank One Day - 6hrs run
DESCRIPTION: Riverbank One Day - 6hrs run\n
  Jon Olson\n
  jonanddoobie[at]gmail.com
DTSTART:20160318T000000
DTEND:00000000T235900
LOCATION:Riverbank, CA\, USA
URL:http://pctrailruns.com/event.aspx?dtid=10010
CATEGORIES:Ultramarathon
CONTACT:Jon Olson
CLASS:PUBLIC
PRIORITY:5
TRANSP:OPAQUE
END:VEVENT
END:VCALENDAR
