BEGIN:VCALENDAR
PRODID:-//http://statistik.d-u-v.org//PHP ultracalendar//EN
VERSION:2.0
METHOD:PUBLISH
BEGIN:VEVENT
DTSTAMP:20260419T233233
CREATED:20160324T165206
UID:1776641553.0.37158700-32284@statistik.d-u-v.org
SUMMARY:West Coast 50K
DESCRIPTION: West Coast 50K\n
  Race Director Tracy Crane-Johnson\n
  Tracy[at]WestCoasttrailruns.com
DTSTART:20170219T000000
DTEND:00000000T235900
LOCATION:San Jose, CA\, USA
URL:http://www.westcoasttrailruns.com/
CATEGORIES:Ultramarathon
CONTACT:Race Director Tracy Crane-Johnson
CLASS:PUBLIC
PRIORITY:5
TRANSP:OPAQUE
END:VEVENT
END:VCALENDAR
