BEGIN:VCALENDAR
PRODID:-//http://statistik.d-u-v.org//PHP ultracalendar//EN
VERSION:2.0
METHOD:PUBLISH
BEGIN:VEVENT
DTSTAMP:20260420T044127
CREATED:20160324T154132
UID:1776660087.0.13952200-32249@statistik.d-u-v.org
SUMMARY:Ultramaraton Chudy Wawrzyniec 80 Km
DESCRIPTION: Ultramaraton Chudy Wawrzyniec 80 Km\n
  \n
  chudywawrzyniec[at]gmail.com
DTSTART:20160806T040000
DTEND:00000000T235900
LOCATION:Rajczy\, POL
URL:http://www.chudywawrzyniec.pl/
CATEGORIES:Ultramarathon
CONTACT:
CLASS:PUBLIC
PRIORITY:5
TRANSP:OPAQUE
END:VEVENT
END:VCALENDAR
